BEGIN:VCALENDAR
VERSION:2.0
PRODID:-//DayOut.ie - ECPv6.15.1.1//NONSGML v1.0//EN
CALSCALE:GREGORIAN
METHOD:PUBLISH
X-ORIGINAL-URL:https://dayout.ie
X-WR-CALDESC:Events for DayOut.ie
REFRESH-INTERVAL;VALUE=DURATION:PT1H
X-Robots-Tag:noindex
X-PUBLISHED-TTL:PT1H
BEGIN:VTIMEZONE
TZID:UTC
BEGIN:STANDARD
TZOFFSETFROM:+0000
TZOFFSETTO:+0000
TZNAME:UTC
DTSTART:20160101T000000
END:STANDARD
END:VTIMEZONE
BEGIN:VEVENT
DTSTART;TZID=UTC:20160329T200000
DTEND;TZID=UTC:20160402T200000
DTSTAMP:20260424T142740
CREATED:20160322T193434Z
LAST-MODIFIED:20160322T194730Z
UID:10177-1459281600-1459627200@dayout.ie
SUMMARY:Evita - Portmarnock Musical & Dramatic Society
DESCRIPTION:An amateur production by arrangement with the Really Useful Group Ltd\, originally directed by Harold Prince.\n\nTaking place at Malahide Community School\, Dublin\n\nMarch 29th- April 2nd\, 8pm.\n\nBook now: 086 815 2960\n\nTickets: &#128;18/ &#128;16 concession
URL:http://dayout.ie/event/evita-portmarnock-musical-dramatic-society/
LOCATION:Malahide Community School\, Broomfield\, Malahide\, Ireland
CATEGORIES:Amateur Musical Society
ATTACH;FMTTYPE=image/jpeg:http://dayout.ie/wp-content/uploads/2016/03/evita.jpg
END:VEVENT
END:VCALENDAR