BEGIN:VCALENDAR
VERSION:2.0
PRODID:-//DayOut.ie - ECPv6.15.1.1//NONSGML v1.0//EN
CALSCALE:GREGORIAN
METHOD:PUBLISH
X-WR-CALNAME:DayOut.ie
X-ORIGINAL-URL:https://dayout.ie
X-WR-CALDESC:Events for DayOut.ie
REFRESH-INTERVAL;VALUE=DURATION:PT1H
X-Robots-Tag:noindex
X-PUBLISHED-TTL:PT1H
BEGIN:VTIMEZONE
TZID:UTC
BEGIN:STANDARD
TZOFFSETFROM:+0000
TZOFFSETTO:+0000
TZNAME:UTC
DTSTART:20180101T000000
END:STANDARD
END:VTIMEZONE
BEGIN:VEVENT
DTSTART;VALUE=DATE:20220227
DTEND;VALUE=DATE:20220228
DTSTAMP:20260424T005724
CREATED:20220203T182833Z
LAST-MODIFIED:20220203T184525Z
UID:18302-1645920000-1646006399@dayout.ie
SUMMARY:Nitro Stunt Show
DESCRIPTION:The event is the first of its kind to hit Ireland\, Nitro Stunt Show comes to Leopardstown Racecourse on Sun the 27th Feb. This high-flying 2-hour fuel-burning adrenaline stunt show features World Famous Guinness world record holder Terry Grant\, Lee Bowers Stunt Biker. Just confirmed top stunt Fmx team Bolddog who featured on Britain’s Got Talent.  \nAlso record breaking Jet Engine Drag car demo / Drag Cars / Top stunt performers\, Top Drift display\, and much much more.  \nWe will be announcing more acts over the next week.  \nThere are limited tickets available due to covid guidelines so we would advise you to get them now as this event will sell out.  \nTo be in with a chance of winning an overnight stay for two at top hotel and Vip to Nitro Stuntshow 27th Feb at Leopardstown Racecourse….. which includes passenger ride in top Drift car\, click here \nBook Now\n 
URL:https://dayout.ie/event/nitro-stunt-show/
LOCATION:Leopardstown Racecourse\, Foxrock\, Dublin 18\, Ireland
CATEGORIES:Car events,Events for kids,Family days out,Family events in Dublin,Sports Events
ATTACH;FMTTYPE=image/jpeg:https://dayout.ie/wp-content/uploads/2022/02/stunt.jpeg
END:VEVENT
BEGIN:VEVENT
DTSTART;VALUE=DATE:20190709
DTEND;VALUE=DATE:20190721
DTSTAMP:20260424T005724
CREATED:20190622T154648Z
LAST-MODIFIED:20190622T154648Z
UID:16334-1562630400-1563667199@dayout.ie
SUMMARY:Annie
DESCRIPTION:The smash-hit production of ANNIE comes to Bord Gáis Energy Theatre for two weeks only\, direct from London’s West End. This ‘glorious revival’ (The Times) stars JODIE PRENGER (winner of the BBC’s I’d Do Anything\, Oliver\, Spamalot\, Calamity Jane) as the tyrannical Miss Hannigan! \nSet in 1930s New York during The Great Depression\, brave young Annie is forced to live a life of misery at Miss Hannigan’s orphanage. Her luck soon changes when she’s chosen to spend a fairytale Christmas with famous billionaire\, Oliver Warbucks. Meanwhile\, spiteful Miss Hannigan has other ideas and hatches a plan to spoil Annie’s search for her true family… \nWith its Tony® award-winning book and score\, including the unforgettable songs It’s The Hard-Knock Life\, Easy Street\, I Don’t Need Anything But You and Tomorrow\, you can bet your bottom dollar that you’ll love it!
URL:http://dayout.ie/event/annie/
LOCATION:Bord Gáis Energy Theatre\, Grand Canal Square\, Docklands\, Dublin 2\, Ireland
CATEGORIES:Family events in Dublin,Family shows,Theatre
END:VEVENT
BEGIN:VEVENT
DTSTART;VALUE=DATE:20181221
DTEND;VALUE=DATE:20181224
DTSTAMP:20260424T005724
CREATED:20180706T160500Z
LAST-MODIFIED:20180706T160835Z
UID:14539-1545350400-1545609599@dayout.ie
SUMMARY:Walking With Dinosaurs
DESCRIPTION:Dinosaurs will once again roam international soil when the globally-acclaimed production\, WALKING WITH DINOSAURS – THE ARENA SPECTACULAR\, based on the award-winning BBC Television Series\, returns in 2018\, starring Michaela Strachan as &#145;Huxley&#146; the paleontologist. Watched by over 9 million people in more than 250 cities around the world\, WALKING WITH DINOSAURS – THE ARENA SPECTACULAR. \nThis jaw dropping experience comes to the 3Arena\, Dublin 21st &#150; 23rd December 2018. The $20 million production features new\, state of the art technology\, underlining its position as the biggest and best dinosaur show in the world. \nThis updated production will showcase spectacular and colourful changes to the dinosaurs based on the latest scientific research including the likely feathering of some species. WALKING WITH DINOSAURS- THE ARENA SPECTACULAR is produced by Global Creatures headed by CEO Carmen Pavlovic. Pavlovic said\, &#147;I am thrilled that WALKING WITH DINOSAURS – THE ARENA SPECTACULAR is embarking on an international tour. A new generation is ready to experience these life&#150;size beasts in this awe-inspiring spectacle\, which has still not been matched in terms of scale and quality. Many of our creatures have &#147;evolved&#148; since the last tour\, now featuring distinctive display feathers\, head crests and tail fans\, reflecting recent discoveries about the physical nature of these massive creatures. This show remains a must-see for audiences of all ages.&#148; The one-hour\, 40-minute show depicts the dinosaurs&#146; evolution with almost cinematic realism. WALKING WITH DINOSAURS – THE ARENA SPECTACULAR has scenes of the interactions between dinosaurs\, how carnivorous dinosaurs evolved to walk on two legs\, and how the herbivores fended off their more agile predators. \nNine species are represented from the entire 200 million year reign of the dinosaurs. The show includes the Tyrannosaurus Rex\, the terror of the ancient terrain\, as well as the Plateosaurus and Liliensternus from the Triassic period\, the Stegosaurus and Allosaurus from the Jurassic period and Torosaurus and Utahraptor from the awesome Cretaceous period. The largest of them\, the Brachiosaurus\, is 11 metres tall and 17 metres from nose to tail. It took a team of 50 – including engineers\, fabricators\, skin makers\, artists painters\, and animatronic experts – a year to build the production. The history of the world is played out with the splitting of the earth&#146;s continents\, and the transition from the arid desert of the Triassic period is given over to the lush green prairies and forces of the later Jurassic. Oceans form\, volcanoes erupt\, a forest catches fire — all leading to the impact of the massive comet\, which struck the earth\, and forced the extinction of the dinosaurs. \nThe show originated in Australia\, where after years of planning\, WALKING WITH DINOSAURS – THE ARENA SPECTACULAR came to life at Sydney&#146;s Acer Arena in January 2007. Soon after this successful season\, WALKING WITH DINOSAURS – THE ARENA SPECTACULAR went on to conquer North America\, Europe and Asia garnering record-breaking audiences. Michaela Strachan Award-winning TV presenter\, author and public speaker. One of Britain&#146;s most loved television presenters\, BAFTA award-winning Michaela Strachan has been a regular face on our screens for over two decades. Michaela is one of the regular presenting team on Springwatch and will be back on BBC Two soon for Autumnwatch and Winterwatch. Michaela has worked extensively as a presenter on the BBC\, spending fifteen years presenting the hugely popular The Really Wild Show and ten years on Countryfile\, as well as Orangutan Diaries\, Elephant Diaries\, Shark Encounters and Orangutan Rescue. \nMichaela&#146;s Wild Challenge (Channel 5) was a double BAFTA award-winning production; earning Michaela the BAFTA for Best Children&#146;s Presenter and the programme the BAFTA for Best Children&#146;s Factual. Other programmes for Channel 5 include Michaela&#146;s Zoo Babies\, Michaela&#146;s Animal Road Trip\, Animal Rescue Squad and Animal Families. For National Geographic\, Michaela has fronted Safari Live\, live from the Kruger National Park\, Adopt a Wild Animal\, Postcards from the Wild and Big 5 Little 5 which she presented alongside long-standing TV friend Chris Packham. For the Natural History Unit South Africa Michaela volunteered in a sea bird rescue centre for The Great Penguin Rescue. Michaela has also presented two series of Great British Ghosts (Yesterday TV)\, One Man and his Dog (BBC)\, The Fossil Roadshow (BBC)\, Full Bloom (BBC) and Club Vegetarian (Granada TV).
URL:http://dayout.ie/event/walking-with-dinosaurs/
LOCATION:3 Arena\, North Wall Quay\, Dublin 1\, Ireland
CATEGORIES:Events for kids,Family days out,Family events in Dublin
END:VEVENT
BEGIN:VEVENT
DTSTART;VALUE=DATE:20181109
DTEND;VALUE=DATE:20181112
DTSTAMP:20260424T005724
CREATED:20180706T154136Z
LAST-MODIFIED:20180706T155206Z
UID:14533-1541721600-1541980799@dayout.ie
SUMMARY:Disney On Ice Presents Dream Big
DESCRIPTION:Moana\, Maui and Friends Embark on Triumphant Ice Debut in Europe with  \nDisney On Ice presents Dream Big \n  \nAll-New Production Reminds Audiences That Every Story Begins with a Dream \nCitywest Hotel\, Dublin \nFriday 9th to Sunday 11th November 2018 \nAudiences will set sail with the wayfinder Moana as she makes her European debut live on ice in Disney On Ice presents Dream Big. This all-new production\, produced by Feld Entertainment\, assembles a collection of inspiring stories connected by a cast of characters with a desire to explore the depths\, heights and horizons of their dreams. Alongside Moana and demi-god Maui are eight tales of courage and heart\, including Frozen\, Beauty and the Beast\, Aladdin and Tangled. Plus\, arrive early to celebrate 90 years of Walt Disney’s “true original\,” Mickey Mouse. \nThe production will premiere in Glasgow\, Scotland and arrive at Citywest Hotel\, Dublin running from Friday 9th  to Sunday 11th November. \nCourage leads the way for Disney’s most daring heroines\, in this brand-new ice skating spectacular. Travel to the kingdom of Arendelle with Anna\, Elsa and Olaf in a dramatic retelling of the sisterly love that saved a kingdom. Jump into amazing adventures with Aladdin as he seizes his chance to outwit his adversaries in the marketplace of Agrabah. Discover uncharted worlds with Rapunzel and Jasmine. Battle the villain Maleficent in the form of a fire-breathing dragon alongside Prince Phillip\, igniting the ice in a blazing spectacle. Dive under the sea with headstrong Ariel as she yearns to explore life above the waves and is willing to risk it all for curiosity and the thrill of adventure. And find the inner strength that comes from kindness and determination with Belle\, Aurora and Cinderella.   \n“Disney On Ice presents Dream Big was created with the intention to inspire everyone to explore their world by highlighting the defining moments of relatable characters who became their own heroes\,” says Executive Vice President and Producer Nicole Feld. “Having both a daughter and son at home\, I knew it was important to present a variety of Disney stories as well as show the connection between these stories and illustrate how a journey can unfold in many ways.” \n“Our greatest wish for our guests is that they will be inspired by these tales of bravery and see that anything is possible if you follow your dreams\,” says Feld Entertainment Regional Vice President\, Steven Armstrong. “Many of the stories we’re presenting &#150; like Cinderella and The Little Mermaid – have been around for generations and stand the test of time. Others\, like Moana and Frozen\, inspire a new generation of young girls through self-reliance and a belief in themselves.” \nDream Big captures all the magic and adventure of Disney’s immortal tales through cutting edge figure-skating\, glamourous costumes and stunning set designs. Through innovative lighting and thrilling special effects\, audiences are transported to a world of imagination\, where heroes of every kind seek to fulfill their dreams. High-flying jumps\, breathtaking skating and lovable Disney friends make Disney On Ice presents Dream Big an experience families will never forget!
URL:http://dayout.ie/event/disney-on-ice-presents-dream-big/
LOCATION:Citywest Hotel\, Saggart\, Dublin
CATEGORIES:Events for kids,Family events in Dublin,Family shows
END:VEVENT
BEGIN:VEVENT
DTSTART;VALUE=DATE:20180811
DTEND;VALUE=DATE:20180812
DTSTAMP:20260424T005724
CREATED:20180413T153337Z
LAST-MODIFIED:20180413T170018Z
UID:13888-1533945600-1534031999@dayout.ie
SUMMARY:Wild Air Run Dublin
DESCRIPTION:Super Milk Wild Air Run is an award-winning family fun run that features 10 of Europe&#146;s biggest inflatable obstacles as part of a 5K course. 2018 brings new features such a water guns to the course. Each runner gets a powerful foam water gun\, which they take home\, to complete new fun tasks around the course\, and of course\, to give each other a soaking.    \nIt can be completed by all fitness levels and all ages between 7-70. All the family can get involved. \nTickets for Super Milk Wild Air Run are on sale at . Early bird tickets are now on sale at &#128;25 for adults and &#128;15 for children. Family tickets (&#128;66) and group rates are also available. Spectators can cheer from the side-lines for free. For more information and to buy tickets visit . \nMarlay Park\, Dublin – 11th  August\nTime: 10am &#150; 3pm
URL:http://dayout.ie/event/wild-air-run-dublin-4/
LOCATION:Marlay Park\, Grange Road\, Rathfarnham Dublin\, Leinster\, Ireland
CATEGORIES:Events for kids,Family days out,Family events in Dublin
ATTACH;FMTTYPE=image/jpeg:https://dayout.ie/wp-content/uploads/2017/02/super-milk-wild-air-run.jpg
END:VEVENT
BEGIN:VEVENT
DTSTART;VALUE=DATE:20180708
DTEND;VALUE=DATE:20180709
DTSTAMP:20260424T005724
CREATED:20180515T104421Z
LAST-MODIFIED:20180515T104830Z
UID:14044-1531008000-1531094399@dayout.ie
SUMMARY:Wild Air Run Dublin
DESCRIPTION:Super Milk Wild Air Run is an award-winning family fun run that features 10 of Europe&#146;s biggest inflatable obstacles as part of a 5K course. 2018 brings new features such a water guns to the course. Each runner gets a powerful foam water gun\, which they take home\, to complete new fun tasks around the course\, and of course\, to give each other a soaking.    \nIt can be completed by all fitness levels and all ages between 7-70. All the family can get involved. \nTickets for Super Milk Wild Air Run are on sale at . Early bird tickets are now on sale at &#128;25 for adults and &#128;15 for children. Family tickets (&#128;66) and group rates are also available. Spectators can cheer from the side-lines for free. For more information and to buy tickets visit . \nMalahide Castle\, Dublin &#150; 8th July\nTime: 10am &#150; 12.20pm
URL:http://dayout.ie/event/wild-air-run-dublin-5/
LOCATION:Malahide Castle\, Malahide\, Dublin\, Leinster\, Ireland
CATEGORIES:Family days out,Family events in Dublin
ATTACH;FMTTYPE=image/jpeg:https://dayout.ie/wp-content/uploads/2017/02/super-milk-wild-air-run.jpg
END:VEVENT
BEGIN:VEVENT
DTSTART;VALUE=DATE:20180707
DTEND;VALUE=DATE:20180708
DTSTAMP:20260424T005724
CREATED:20180413T152642Z
LAST-MODIFIED:20180413T170148Z
UID:13884-1530921600-1531007999@dayout.ie
SUMMARY:Wild Air Run Dublin
DESCRIPTION:Super Milk Wild Air Run is an award-winning family fun run that features 10 of Europe&#146;s biggest inflatable obstacles as part of a 5K course. 2018 brings new features such a water guns to the course. Each runner gets a powerful foam water gun\, which they take home\, to complete new fun tasks around the course\, and of course\, to give each other a soaking.    \nIt can be completed by all fitness levels and all ages between 7-70. All the family can get involved. \nTickets for Super Milk Wild Air Run are on sale at . Early bird tickets are now on sale at &#128;25 for adults and &#128;15 for children. Family tickets (&#128;66) and group rates are also available. Spectators can cheer from the side-lines for free. For more information and to buy tickets visit . \nMalahide Castle\, Dublin – 7th July\nTime: 10am – 3pm
URL:http://dayout.ie/event/wild-air-run-dublin-3/
LOCATION:Malahide Castle\, Malahide\, Dublin\, Leinster\, Ireland
CATEGORIES:Events for kids,Family days out,Family events in Dublin
ATTACH;FMTTYPE=image/jpeg:https://dayout.ie/wp-content/uploads/2017/02/super-milk-wild-air-run.jpg
END:VEVENT
BEGIN:VEVENT
DTSTART;VALUE=DATE:20180706
DTEND;VALUE=DATE:20180709
DTSTAMP:20260424T005724
CREATED:20180705T151807Z
LAST-MODIFIED:20180705T152428Z
UID:14453-1530835200-1531094399@dayout.ie
SUMMARY:Laya Healthcare's City Spectacular
DESCRIPTION:WE’RE COUNTING DOWN THE DAYS FOR IRELAND’S BIGGEST\, FREE AND MOST SPECTACULAR FAMILY FESTIVAL \nLAYA HEALTHCARE’S CITY SPECTACULAR  \n  July 7th-9th| Merrion Square\, Dublin \n  July 15th & 16th | Fitzgerald Park\, Cork \nOVER 300 FREE WORKSHOPS\, ACTIVITIES AND SPECTACULAR SHOWS FOR THE WHOLE FAMILY TO DISCOVER AND DELIGHT \n  \nThe countdown is on for Ireland’s biggest free summer festival\, Laya Healthcare’s City Spectacular\, were over a whopping 250\,000 people are expected to attend the festivals and enjoy all it has to offer! The festival runs over 3 days in Dublin and 2 days in Cork\, showcasing the best in international street performance\, interactive family activations and workshops\, delicious artisan producers and street food from around the world as well as a pet wellness area ‘PETacular’ with the D.S.P.C.A. and Purina. \nHere are the top things to do at City Spectacular with the kids and parents at the heart of the action! \nWELCOME TO OUR HUB OF HEALTH AND WELLBEING \nGO HEAD TO FEATHER WITH DUSTIN THE TURKEY! \nThat’s right\, this year Laya Healthcare’s City Spectacular welcomes Ireland’s favourite bird and national hero\, Dustin the Turkey as this year’s Festival Ambassador. He describes himself as many things\, a builder\, a singer\, a genius\, but is it fair to say he’s at the top of his GAME? Come find out for yourself and join Dustin & co-host Francie Boylan from RTE’s The Den on July 8-9 for the’ Birdbrain Quiz’ where families will go head to feather with Dustin! \nVEG OUT WITH THE HAPPY PEAR \n  \nThe Happy Pear are bringing some happiness and healthy eating habits to City Spectacular. Veg out with The Happy Pear twins David & Stephen who will give a family food demo with simple but heart healthy recipes\, food tasters for all the family to enjoy and expect lots of energetic fun with these two! \nGET MOVING WITH IMAGINOSITY AND DR. OSITY’S BODY SCIENCE SHOW ‘READY\, STEADY\, GROW’ \nJoin crazy Dr.Osity from Imaginosity\, Ireland’s only interactive children’s Museum in their body Science show…Ready Steady\, Grow! This is a fully interactive show focusing on the magic of the body and how it works…from top\, to toe! From the brain and the skeletal system to your muscles and skin\, Dr. Osity will work with the audience in a fun\, unique way to help children learn all about their bodies through the mediums of song\, movement and science! \nPOSITIVE MENTAL FITNESS WITH IRISH FITNESS EXPERT PAT DIVILLY \nPat Divilly\, Irish Fitness expert and transformation coach is coming to Laya Healthcare’s City Spectacular July 8th to teach us about the benefits of mental fitness and positivity. Keeping your brain healthy is just as important as physical fitness and it should never be neglected. So get ready to challenge the brain and learn exercises the whole family can do\, for sharper minds & healthy bodies! \nCHANNEL YOUR INNER SUPERSTAR WITH DANCE & DRAMA WORKSHOPS \nFor little kids\, and not so little kids\, the Super Troopers tent has drama and dance classes provided by S for boys and girls aged 4-12 years. The workshops are 45 minutes to 1 hour in length\, and involve fun games\, warm-ups\, drama exercises\, improv and dance routines to chart hits! \nSUPER TROOPERS 15 MINUTES OF FAMILY FITNESS \nWe know finding the time to be active can be tricky\, so the Super Troopers have put together a ’15 minutes of family fitness’ which is a mix of  simple yet energetic\, family-based routines that put children at the heart of the action. The fitness programme initiated by Laya Healthcare focuses on increasing kid’s levels of physical activity for less than 15 minutes a day all the while having lots of fun! You can find this super trooper programme in both Dublin and Cork \nFIND YOUR FLAVOUR AT JUST EAT STREET \nJUST EAT STREET – the international street food festival within a festival will be back this July 8th and 9th in Dublin’s Merrion Square and July 15th and 16th in Cork’s Fitzgerald Park. Just Eat Street is a feast of food\, fun & entertainment in the City Spectacular. Enjoy over 25 different cuisines from around the world and music from international acts. Chill in the sunshine with friends & family\, while the Just Eat Waiter Service takes and delivers your food orders\, bringing the best of Just Eat’s online ordering service to life at Laya Healthcare’s City Spectacular. \nVISIT THE BOOK CLINIC WITH CHILDREN’S BOOKS IRELAND \nDo you love to read? Are you a young reader? Looking for a new series to delve into? Then pop along to the Book Clinic and get your free book prescription! Parents and children are invited to drop in for an informal consultation with one of Children’s Books Ireland’s friendly panel of Book Doctors who will offer the best advice for the young readers in your family. \n  \nPET-ACULAR IS CELEBRATING ALL THINGS PETS! \nPET-acular with the D.S.P.C.A & Purina is back again this year where  families and animal lovers are encouraged to bring their pets to enjoy the festival fun. Bring your pooch along and they can be the star of the ‘Scruffs Dog Show’\, hang out in the King of Paws agility arena and set tails wagging in their very own photo shoot. The wonderful team at the DSPCA will have a vet on site to provide pet health advice & our friends at Purina will be on hand with a range of pet food & a photobooth to have your photo taken with Felix. It’s fun for ALL the family…including the 4-legged kind! PET-acular will be taking place in Dublin July 8th & 9th and in Cork July 15th & 16th. \nMARVEL AT THE MAGIC OF STREET ENTERTAINMENT \nA must see for all family are the amazing world class performers as they loop\, hoop\, flip and twist before your eyes! Marvel at the magic of female Magician Billy Kidd\, pop and lock with USA Break dancers and jump and flip with Pogo Fred\, plus many more that will keep you entertained for two weekends of award winning street performances. \nINNOCENT OR GUILTY? KIDS GET THEIR OWN BACK AT KIDS COURT \nCalling all children\, warning all Parents! If you want to get your parents back\, Kid’s Court returns this year messier\, meaner and more mischievous than ever. The Judge will be trying\, sentencing and punishing parents at Laya Healthcare’s Kid’s Court. This is where the kids rule the turf! \nLaya Healthcare’s City Spectacular will take place from July 7th &#150; 9th in Dublin’s Merrion Square and July 15th and 16th in Cork’s Fitzgerald Park \nFor the full programme of fun activities and excitement at Laya Healthcare’s City Spectacular check out  \n 
URL:http://dayout.ie/event/laya-healthcares-city-spectacular/
LOCATION:Merrion Square\, Merrion Square\, Dublin\, Ireland
CATEGORIES:Family days out,Family events in Dublin
END:VEVENT
BEGIN:VEVENT
DTSTART;VALUE=DATE:20180304
DTEND;VALUE=DATE:20180320
DTSTAMP:20260424T005724
CREATED:20180303T140102Z
LAST-MODIFIED:20180303T140830Z
UID:13652-1520121600-1521503999@dayout.ie
SUMMARY:Xtreme Funfair Swords
DESCRIPTION:Dates Open: Friday 2nd March to Monday 19th March \nTimes Open: Monday to Friday 6pm to 10pm \nSaturday & Sunday & Bank Holiday Monday 2pm to 10pm \nSt. Patrick\,s Day 12pm to 10pm \nMajority Price Structure is between &#128;2 &#150; &#128;3 \nDiscount tickets available at this event Monday to Friday excluding the 17th March & 19th March
URL:http://dayout.ie/event/xtreme-funfair-swords/
LOCATION:Pavilions Shopping Centre Swords\, Swords\, Dublin\, Ireland
CATEGORIES:Events for kids,Family days out,Family events in Dublin
ATTACH;FMTTYPE=image/jpeg:https://dayout.ie/wp-content/uploads/2018/03/27973119_1824726450881441_1413476778128132898_n.jpg
END:VEVENT
END:VCALENDAR